BEGIN:VCALENDAR
VERSION:2.0
PRODID:-//Tenneville-les-Bains... de forêt ! - ECPv6.15.20//NONSGML v1.0//EN
CALSCALE:GREGORIAN
METHOD:PUBLISH
X-WR-CALNAME:Tenneville-les-Bains... de forêt !
X-ORIGINAL-URL:https://www.baindeforet.be
X-WR-CALDESC:Évènements pour Tenneville-les-Bains... de forêt !
REFRESH-INTERVAL;VALUE=DURATION:PT1H
X-Robots-Tag:noindex
X-PUBLISHED-TTL:PT1H
BEGIN:VTIMEZONE
TZID:Europe/Helsinki
BEGIN:DAYLIGHT
TZOFFSETFROM:+0200
TZOFFSETTO:+0300
TZNAME:EEST
DTSTART:20250330T010000
END:DAYLIGHT
BEGIN:STANDARD
TZOFFSETFROM:+0300
TZOFFSETTO:+0200
TZNAME:EET
DTSTART:20251026T010000
END:STANDARD
BEGIN:DAYLIGHT
TZOFFSETFROM:+0200
TZOFFSETTO:+0300
TZNAME:EEST
DTSTART:20260329T010000
END:DAYLIGHT
BEGIN:STANDARD
TZOFFSETFROM:+0300
TZOFFSETTO:+0200
TZNAME:EET
DTSTART:20261025T010000
END:STANDARD
BEGIN:DAYLIGHT
TZOFFSETFROM:+0200
TZOFFSETTO:+0300
TZNAME:EEST
DTSTART:20270328T010000
END:DAYLIGHT
BEGIN:STANDARD
TZOFFSETFROM:+0300
TZOFFSETTO:+0200
TZNAME:EET
DTSTART:20271031T010000
END:STANDARD
END:VTIMEZONE
BEGIN:VEVENT
DTSTART;TZID=Europe/Helsinki:20260422T091500
DTEND;TZID=Europe/Helsinki:20260422T091500
DTSTAMP:20260421T043519
CREATED:20251202T135139Z
LAST-MODIFIED:20260420T081316Z
UID:11381-1776849300-1776849300@www.baindeforet.be
SUMMARY:Reporté - Bain de forêt : Être multidimensionnel
DESCRIPTION:Être multidimensionnel\, être multitâches constamment…\nAussi simple que complexe\, prendre le temps d’être à l’écoute des différentes sphères qui nous composent.\nUn équilibrage en finesse.
URL:https://www.baindeforet.be/event/bain-de-foret-etre-multidimensionnel-2/
LOCATION:L’adresse sera communiquée aux participants\, Commune de Tenneville\, 6970\, Belgique
CATEGORIES:Bains de forêt accompagnés
ATTACH;FMTTYPE=image/webp:https://www.baindeforet.be/wp-content/uploads/2025/12/agenda-bain-de-foret-tenneville.webp
END:VEVENT
BEGIN:VEVENT
DTSTART;TZID=Europe/Helsinki:20260520T094500
DTEND;TZID=Europe/Helsinki:20260520T094500
DTSTAMP:20260421T043519
CREATED:20251216T120318Z
LAST-MODIFIED:20251216T121443Z
UID:11439-1779270300-1779270300@www.baindeforet.be
SUMMARY:Bain de forêt : Au coeur du vivant
DESCRIPTION:« Avec l’esprit joyeu du colibri et notre cœur d’enfant\, plonger dans le vivant. Se ressourcer dans le partage et la simplicité. »\nRendez-vous pour ce bain de forêt\, accompagné par Delphine Caudron\, le mercredi 20 mai 2026. \nEn pratique pour le bain de forêt du mercredi 20 mai 2026 : \n– Afin de vous sentir à l’aise avec le temps\, nous vous recommandons de prévoir le créneau horaire de 9h45 à 12h (accueil : dès 9h45\, départ vers le parcours: 10h\, durée du bain de forêt : environ 1h30)\n– PAF: 10 € par personne\n– L’inscription est indispensable (nombre de places limité) auprès du Syndicat d’Initiative de Tenneville via l’Outil Régional de Commercialisation\, au +32 474 86 20 38 ou par mail à tenneville@baindeforet.be\n– Le bain de forêt sera confirmé avec minimum 5 participants\n– Les inscriptions seront clôturées le lundi 18 mai 2026\n– Les jeunes sont les bienvenus dès 15 ans\n– Le lieu de rendez-vous sera communiqué aux participants quelques jours avant le bain de forêt \n==> S’inscrire\nLa date ne vous convient pas ?\nNous proposons également des bains de forêt privés.\nNous sommes à votre disposition pour plus d’informations. \nUne question ?\nVous pouvez consulter la rubrique “Questions fréquentes” et bien sûr nous contacter.
URL:https://www.baindeforet.be/event/bain-de-foret-au-coeur-du-vivant/
LOCATION:L’adresse sera communiquée aux participants\, Commune de Tenneville\, 6970\, Belgique
CATEGORIES:Bains de forêt accompagnés
ATTACH;FMTTYPE=image/webp:https://www.baindeforet.be/wp-content/uploads/2025/12/agenda-bain-de-foret-tenneville-2.webp
ORGANIZER;CN="Syndicat d'Initiative de Tenneville":MAILTO:tenneville@baindeforet.be
END:VEVENT
BEGIN:VEVENT
DTSTART;TZID=Europe/Helsinki:20260530T094500
DTEND;TZID=Europe/Helsinki:20260530T094500
DTSTAMP:20260421T043519
CREATED:20251218T125625Z
LAST-MODIFIED:20251219T080854Z
UID:11472-1780134300-1780134300@www.baindeforet.be
SUMMARY:Sylvothérapie & poésie : Au coeur du vivant
DESCRIPTION:Nous avons le plaisir\, une nouvelle fois\, de vous proposer un moment « Bain de forêt & poésie » accompagné en duo par Delphine Caudron\, sylvothérapeute\, et Jonathan Nguyen\, poète et fondateur du podcast « Des mots suspendus ». \nPour cette nouvelle édition\, qui aura lieu le samedi 30 mai\, le thème est celui choisi par Delphine pour ce joli mois de mai : « Au coeur du vivant ».\nUn thème qui résonne naturellement avec la poésie de Jonathan. \nAvec l’esprit joyeux du colibri et notre cœur d’enfant\, plonger dans le vivant. \nSe ressourcer dans le partage et la simplicité. \nEn pratique : \n– Afin de vous sentir à l’aise avec le temps\, nous vous recommandons de prévoir le créneau horaire de 9h45 à 13h (accueil : dès 9h45\, départ vers le parcours: 10h\, durée du bain de forêt : environ 2h30)– PAF: 25 € par personne– L’inscription est indispensable (nombre de places limité) auprès du Syndicat d’Initiative de Tenneville via l’Outil Régional de Commercialisation\, au +32 474 86 20 38 ou par mail à tenneville@baindeforet.be – Le bain de forêt sera confirmé avec minimum 5 participants– Les inscriptions seront clôturées le mercredi 27 mai 2026– Les jeunes sont les bienvenus dès 15 ans– Le lieu de rendez-vous sera communiqué aux participants quelques jours avant le bain de forêt \n==> S’inscrire
URL:https://www.baindeforet.be/event/sylvotherapie-poesie-au-coeur-du-vivant/
LOCATION:L’adresse sera communiquée aux participants\, Commune de Tenneville\, 6970\, Belgique
CATEGORIES:Bains de forêt accompagnés
ATTACH;FMTTYPE=image/webp:https://www.baindeforet.be/wp-content/uploads/2025/12/agenda-bain-de-foret-tenneville-1-2.webp
ORGANIZER;CN="Syndicat d'Initiative de Tenneville":MAILTO:tenneville@baindeforet.be
END:VEVENT
BEGIN:VEVENT
DTSTART;TZID=Europe/Helsinki:20260613T091500
DTEND;TZID=Europe/Helsinki:20260613T091500
DTSTAMP:20260421T043519
CREATED:20251203T102410Z
LAST-MODIFIED:20251203T123031Z
UID:11391-1781342100-1781342100@www.baindeforet.be
SUMMARY:Bain de forêt: Harmoniser nos liens avec le vivant
DESCRIPTION:Et si la manière dont nous prenons soin de la planète nous questionnait sur notre place dans l’écosystème et la manière dont nous prenons soin de nos relations ? \nNous vous donnons rendez-vous le samedi 13 juin en matinée\, pour ce bain de forêt accompagné par Linda Van Looveren.\nÀ travers son approche du bain de forêt\, Linda propose une immersion douce et consciente dans la nature pour renouer avec le Vivant\, ralentir et ressentir autrement. \n\nEn pratique pour le bain de forêt du samedi 13 juin : – Afin de vous sentir à l’aise avec le temps\, nous vous recommandons de prévoir le créneau horaire de 9h15 à 12h (accueil : dès 9h15\, départ vers le parcours: 9h30\, durée du bain de forêt : environ 2h)– PAF: 15 € par personne– L’inscription est indispensable (nombre de places limité) auprès du Syndicat d’Initiative de Tenneville via l’Outil Régional de Commercialisation\, au +32 474 86 20 38 ou par mail à tenneville@baindeforet.be – Le bain de forêt sera confirmé avec minimum 8 participants\n– Possibilité de guidage en français et néerlandais– Les inscriptions seront clôturées le mercredi 10 juin 2025– Les jeunes sont les bienvenus dès 15 ans– Le lieu de rendez-vous sera communiqué aux participants quelques jours avant le bain de forêt \n==> S’inscrire\n\nLa date ne vous convient pas ?\nNous proposons également des bains de forêt privés.\nNous sommes à votre disposition pour plus d’informations. \nUne question ?\nVous pouvez consulter la rubrique “Questions fréquentes” accessible ici et bien sûr nous contacter.
URL:https://www.baindeforet.be/event/11391/
LOCATION:L’adresse sera communiquée aux participants\, Commune de Tenneville\, 6970\, Belgique
CATEGORIES:Bains de forêt accompagnés
ATTACH;FMTTYPE=image/webp:https://www.baindeforet.be/wp-content/uploads/2025/12/agenda-bain-de-foret-tenneville-1.webp
ORGANIZER;CN="Syndicat d'Initiative de Tenneville":MAILTO:tenneville@baindeforet.be
END:VEVENT
BEGIN:VEVENT
DTSTART;TZID=Europe/Helsinki:20260617T091500
DTEND;TZID=Europe/Helsinki:20260617T091500
DTSTAMP:20260421T043519
CREATED:20251216T105703Z
LAST-MODIFIED:20251216T122740Z
UID:11430-1781687700-1781687700@www.baindeforet.be
SUMMARY:Bain de forêt: Transformation et prospérité
DESCRIPTION:Les bains de forêt accompagnés en juin par Delphine Caudron se dérouleront le mercredi 17 et le samedi 20 juin.\nIls auront pour thème « Transformation et prospérité ». L’intention posée pour ces temps de sylvothérapie sera : « Dans les petites choses du vivant\, se déposer et observer. S’inspirer de la fluidité et de l’authenticité de la nature pour se laisser prospérer. » \nEn pratique pour le bain de forêt du mercredi 17 juin 2026 : \n– Afin de vous sentir à l’aise avec le temps\, nous vous recommandons de prévoir le créneau horaire de 9h15 à 11h30 (accueil : dès 9h15\, départ vers le parcours: 9h30\, durée du bain de forêt : environ 1h30)\n– PAF: 10 € par personne\n– L’inscription est indispensable (nombre de places limité) auprès du Syndicat d’Initiative de Tenneville via l’Outil Régional de Commercialisation\, au +32 474 86 20 38 ou par mail à tenneville@baindeforet.be\n– Le bain de forêt sera confirmé avec minimum 5 participants\n– Les inscriptions seront clôturées le lundi 15 juin 2026\n– Les jeunes sont les bienvenus dès 15 ans\n– Le lieu de rendez-vous sera communiqué aux participants quelques jours avant le bain de forêt \n==> S’inscrire\nLa date ne vous convient pas ?\nNous proposons également des bains de forêt privés.\nNous sommes à votre disposition pour plus d’informations. \nUne question ?\nVous pouvez consulter la rubrique “Questions fréquentes” et bien sûr nous contacter.
URL:https://www.baindeforet.be/event/bain-de-foret-transformation-et-prosperite/
LOCATION:L’adresse sera communiquée aux participants\, Commune de Tenneville\, 6970\, Belgique
CATEGORIES:Bains de forêt accompagnés
ATTACH;FMTTYPE=image/webp:https://www.baindeforet.be/wp-content/uploads/2025/12/agenda-bain-de-foret-tenneville-1-1.webp
ORGANIZER;CN="Syndicat d'Initiative de Tenneville":MAILTO:tenneville@baindeforet.be
END:VEVENT
BEGIN:VEVENT
DTSTART;TZID=Europe/Helsinki:20260620T091500
DTEND;TZID=Europe/Helsinki:20260620T091500
DTSTAMP:20260421T043519
CREATED:20251216T122819Z
LAST-MODIFIED:20251216T123405Z
UID:11452-1781946900-1781946900@www.baindeforet.be
SUMMARY:Bain de forêt: Transformation et prospérité
DESCRIPTION:Les bains de forêt accompagnés en juin par Delphine Caudron se dérouleront le mercredi 17 et le samedi 20 juin.\nIls auront pour thème « Transformation et prospérité ». L’intention posée pour ces temps de sylvothérapie sera : « Dans les petites choses du vivant\, se déposer et observer. S’inspirer de la fluidité et de l’authenticité de la nature pour se laisser prospérer. » \nEn pratique pour le bain de forêt du samedi 20 juin 2026 : \n– Afin de vous sentir à l’aise avec le temps\, nous vous recommandons de prévoir le créneau horaire de 9h15 à 11h30 (accueil : dès 9h15\, départ vers le parcours: 9h30\, durée du bain de forêt : environ 1h30)\n– PAF: 10 € par personne\n– L’inscription est indispensable (nombre de places limité) auprès du Syndicat d’Initiative de Tenneville via l’Outil Régional de Commercialisation\, au +32 474 86 20 38 ou par mail à tenneville@baindeforet.be\n– Le bain de forêt sera confirmé avec minimum 5 participants\n– Les inscriptions seront clôturées le mercredi 17 juin 2026\n– Les jeunes sont les bienvenus dès 15 ans\n– Le lieu de rendez-vous sera communiqué aux participants quelques jours avant le bain de forêt \n==> S’inscrire\nLa date ne vous convient pas ?\nNous proposons également des bains de forêt privés.\nNous sommes à votre disposition pour plus d’informations. \nUne question ?\nVous pouvez consulter la rubrique “Questions fréquentes” et bien sûr nous contacter.
URL:https://www.baindeforet.be/event/bain-de-foret-transformation-et-prosperite-2/
LOCATION:L’adresse sera communiquée aux participants\, Commune de Tenneville\, 6970\, Belgique
CATEGORIES:Bains de forêt accompagnés
ATTACH;FMTTYPE=image/webp:https://www.baindeforet.be/wp-content/uploads/2025/12/agenda-bain-de-foret-tenneville-1-1.webp
ORGANIZER;CN="Syndicat d'Initiative de Tenneville":MAILTO:tenneville@baindeforet.be
END:VEVENT
END:VCALENDAR