BEGIN:VCALENDAR
VERSION:2.0
PRODID:-//Tenneville-les-Bains... de forêt ! - ECPv6.15.20//NONSGML v1.0//EN
CALSCALE:GREGORIAN
METHOD:PUBLISH
X-WR-CALNAME:Tenneville-les-Bains... de forêt !
X-ORIGINAL-URL:https://www.baindeforet.be/nl/
X-WR-CALDESC:Evenementen voor Tenneville-les-Bains... de forêt !
REFRESH-INTERVAL;VALUE=DURATION:PT1H
X-Robots-Tag:noindex
X-PUBLISHED-TTL:PT1H
BEGIN:VTIMEZONE
TZID:Europe/Helsinki
BEGIN:DAYLIGHT
TZOFFSETFROM:+0200
TZOFFSETTO:+0300
TZNAME:EEST
DTSTART:20200329T010000
END:DAYLIGHT
BEGIN:STANDARD
TZOFFSETFROM:+0300
TZOFFSETTO:+0200
TZNAME:EET
DTSTART:20201025T010000
END:STANDARD
BEGIN:DAYLIGHT
TZOFFSETFROM:+0200
TZOFFSETTO:+0300
TZNAME:EEST
DTSTART:20210328T010000
END:DAYLIGHT
BEGIN:STANDARD
TZOFFSETFROM:+0300
TZOFFSETTO:+0200
TZNAME:EET
DTSTART:20211031T010000
END:STANDARD
BEGIN:DAYLIGHT
TZOFFSETFROM:+0200
TZOFFSETTO:+0300
TZNAME:EEST
DTSTART:20220327T010000
END:DAYLIGHT
BEGIN:STANDARD
TZOFFSETFROM:+0300
TZOFFSETTO:+0200
TZNAME:EET
DTSTART:20221030T010000
END:STANDARD
END:VTIMEZONE
BEGIN:VEVENT
DTSTART;TZID=Europe/Helsinki:20211121T090000
DTEND;TZID=Europe/Helsinki:20211121T110000
DTSTAMP:20260421T223931
CREATED:20211006T115405Z
LAST-MODIFIED:20211112T114237Z
UID:3516-1637485200-1637492400@www.baindeforet.be
SUMMARY:Bosbaden\, voor een goede gezondheid! (ontdekking)
DESCRIPTION:Bosbad begeleide door Juliette Antoine.\nVertrek om 9u (onthaal vanaf 8.45u).\nDuur: +/- 2 u.\nOp reservatie via tenneville@baindeforet.be of per telefoon op +32 61 61 30 10 (vraag Ingrid) t/m vrijdag 19 november om 12u. \nDe ontmoetingsplaats wordt aan de deelnemers een paar dagen voor het bosbad gecommuniceerd \n“Bosbaden\, of shinrin-yoku is jezelf onderdompelen in de natuur met alle zintuigen op scherp.\nTijdens het bosbaden\, doen we enkele oefeningen om ons te ontspannen en volledig in het moment aanwezig te zijn.\nDoor niet alleen naar het bos te kijken\, maar ook te luisteren\, te ruiken\, te proeven en te voelen\, kunnen we de natuur en de samenhang van alles pas echt beleven …” \nPrix: 15 € / volw.\, 7 € / kind vanaf 4 jaar \nDeze activiteit is bevestigd vanaf 6 personen.
URL:https://www.baindeforet.be/nl/event/bosbaden-voor-een-goede-gezondheid-ontdekking-4/
ATTACH;FMTTYPE=image/jpeg:https://www.baindeforet.be/wp-content/uploads/2021/09/bain_de_foret_tenneville_ardenne.jpg
ORGANIZER;CN="Syndicat d'Initiative de Tenneville":MAILTO:tenneville@baindeforet.be
END:VEVENT
BEGIN:VEVENT
DTSTART;TZID=Europe/Helsinki:20211017T090000
DTEND;TZID=Europe/Helsinki:20211017T090000
DTSTAMP:20260421T223931
CREATED:20210712T114624Z
LAST-MODIFIED:20211012T125545Z
UID:3360-1634461200-1634461200@www.baindeforet.be
SUMMARY:Bosbaden\, voor een goede gezondheid! (ontdekking)
DESCRIPTION:Bosbad begeleide door Juliette Antoine.\nVertrek om 9u (onthaal vanaf 8.45u).\nDuur: +/- 2 u.\nOp reservatie via tenneville@baindeforet.be of per telefoon op +32 61 61 30 10 (vraag Ingrid) t/m vrijdag 15 oktober om 10u. \nDe ontmoetingsplaats wordt aan de deelnemers een paar dagen voor het bosbad gecommuniceerd \n“Bosbaden\, of shinrin-yoku is jezelf onderdompelen in de natuur met alle zintuigen op scherp.\nTijdens het bosbaden\, doen we enkele oefeningen om ons te ontspannen en volledig in het moment aanwezig te zijn.\nDoor niet alleen naar het bos te kijken\, maar ook te luisteren\, te ruiken\, te proeven en te voelen\, kunnen we de natuur en de samenhang van alles pas echt beleven …” \nPrix: 15 € / volw.\, 7 € / kind vanaf 4 jaar \nDeze activiteit is bevestigd vanaf 6 personen.
URL:https://www.baindeforet.be/nl/event/bosbaden-voor-een-goede-gezondheid-ontdekking-3/
CATEGORIES:Bain de forêt à thème,Bains de forêt accompagnés
ATTACH;FMTTYPE=image/jpeg:https://www.baindeforet.be/wp-content/uploads/2020/07/foret©ATLBPWillems.jpg
ORGANIZER;CN="Syndicat d'Initiative de Tenneville":MAILTO:tenneville@baindeforet.be
END:VEVENT
BEGIN:VEVENT
DTSTART;TZID=Europe/Helsinki:20210808T090000
DTEND;TZID=Europe/Helsinki:20210808T090000
DTSTAMP:20260421T223931
CREATED:20210317T150157Z
LAST-MODIFIED:20210805T094117Z
UID:3007-1628413200-1628413200@www.baindeforet.be
SUMMARY:Bosbaden\, voor een goede gezondheid! (ontdekking)
DESCRIPTION:Bosbad begeleide door Juliette Antoine op zondag 8 augustus 2021.\nVertrek om 9u (onthaal vanaf 8.45u).\nDuur: +/- 2 u.\nOp reservatie via tenneville@baindeforet.be of per telefoon op +32 61 61 30 10 (vraag Ingrid) t/m vrijdag 6 augustus om 15u. \nDe ontmoetingsplaats wordt aan de deelnemers een paar dagen voor het bosbad gecommuniceerd \n“Bosbaden\, of shinrin-yoku is jezelf onderdompelen in de natuur met alle zintuigen op scherp.\nTijdens het bosbaden\, doen we enkele oefeningen om ons te ontspannen en volledig in het moment aanwezig te zijn.\nDoor niet alleen naar het bos te kijken\, maar ook te luisteren\, te ruiken\, te proeven en te voelen\, kunnen we de natuur en de samenhang van alles pas echt beleven …” \nPrix: 15 € / volw.\, 7 € / kind vanaf 4 jaar \nDeze activiteit is bevestigd vanaf 6 personen.
URL:https://www.baindeforet.be/nl/event/bosbaden-voor-een-goede-gezondheid-5/
CATEGORIES:Bains de forêt accompagnés
ATTACH;FMTTYPE=image/jpeg:https://www.baindeforet.be/wp-content/uploads/2020/05/tenneville_les_bains_de_foret©IJusseret-16-scaled-scaled.jpg
END:VEVENT
BEGIN:VEVENT
DTSTART;TZID=Europe/Helsinki:20210725T090000
DTEND;TZID=Europe/Helsinki:20210725T090000
DTSTAMP:20260421T223931
CREATED:20210317T142049Z
LAST-MODIFIED:20210722T075220Z
UID:3003-1627203600-1627203600@www.baindeforet.be
SUMMARY:Bosbaden\, voor een goede gezondheid! (ontdekking)
DESCRIPTION:Bosbad begeleide door Juliette Antoine op zondag 25 juli 2021.\nVertrek om 9u (onthaal vanaf 8.45u).\nDuur: +/- 2 u.\nOp reservatie via tenneville@baindeforet.be of per telefoon op +32 61 61 30 10 (vraag Ingrid) t/m vrijdag 23 juli om 12u. \nDe ontmoetingsplaats wordt aan de deelnemers een paar dagen voor het bosbad gecommuniceerd \n“Bosbaden\, of shinrin-yoku is jezelf onderdompelen in de natuur met alle zintuigen op scherp.\nTijdens het bosbaden\, doen we enkele oefeningen om ons te ontspannen en volledig in het moment aanwezig te zijn.\nDoor niet alleen naar het bos te kijken\, maar ook te luisteren\, te ruiken\, te proeven en te voelen\, kunnen we de natuur en de samenhang van alles pas echt beleven …” \nPrix: 15 € / volw.\, 7 € / kind vanaf 4 jaar \nDeze activiteit is bevestigd vanaf 6 personen. \n 
URL:https://www.baindeforet.be/nl/event/bosbaden-voor-een-goede-gezondheid-4/
CATEGORIES:Bains de forêt accompagnés
ATTACH;FMTTYPE=image/jpeg:https://www.baindeforet.be/wp-content/uploads/2021/03/arbre_tenneville©IJusseret.jpg
ORGANIZER;CN="Syndicat d'Initiative de Tenneville":MAILTO:tenneville@baindeforet.be
END:VEVENT
BEGIN:VEVENT
DTSTART;TZID=Europe/Helsinki:20210718T090000
DTEND;TZID=Europe/Helsinki:20210718T090000
DTSTAMP:20260421T223931
CREATED:20210317T141332Z
LAST-MODIFIED:20210715T085759Z
UID:3001-1626598800-1626598800@www.baindeforet.be
SUMMARY:Bosbaden\, voor een goede gezondheid! (ontdekking)
DESCRIPTION: Bosbad begeleide door Juliette Antoine op zondag 18 juli.\nVertrek om 9u (onthaal vanaf 8.45u).\nDuur: +/- 2 u.\nOp reservatie via tenneville@baindeforet.be of per telefoon op +32 61 61 30 10 (vraag Ingrid) t/m vrijdag 16 juli om 16u. \nDe ontmoetingsplaats wordt aan de deelnemers een paar dagen voor het bosbad gecommuniceerd \n“Bosbaden\, of shinrin-yoku is jezelf onderdompelen in de natuur met alle zintuigen op scherp.\nTijdens het bosbaden\, doen we enkele oefeningen om ons te ontspannen en volledig in het moment aanwezig te zijn.\nDoor niet alleen naar het bos te kijken\, maar ook te luisteren\, te ruiken\, te proeven en te voelen\, kunnen we de natuur en de samenhang van alles pas echt beleven …” \n\nPrix: 15 € / volw.\, 7 € / kind vanaf 4 jaar \nDeze activiteit is bevestigd vanaf 6 personen.
URL:https://www.baindeforet.be/nl/event/bosbaden-voor-een-goede-gezondheid-3/
CATEGORIES:Bains de forêt accompagnés
ATTACH;FMTTYPE=image/jpeg:https://www.baindeforet.be/wp-content/uploads/2021/03/bain_de_foret©IJusseret.jpg
ORGANIZER;CN="Syndicat d'Initiative de Tenneville":MAILTO:tenneville@baindeforet.be
END:VEVENT
BEGIN:VEVENT
DTSTART;TZID=Europe/Helsinki:20210613T090000
DTEND;TZID=Europe/Helsinki:20210613T090000
DTSTAMP:20260421T223931
CREATED:20210317T141152Z
LAST-MODIFIED:20210621T133511Z
UID:2999-1623574800-1623574800@www.baindeforet.be
SUMMARY:Bosbaden\, voor een goede gezondheid! (ontdekking)
DESCRIPTION:osbad begeleide door Juliette Antoine op zondag 13 juni.\nVertrek om 9u (onthaal vanaf 8.45u).\nDuur: +/- 2 u.\nOp reservatie via tenneville@baindeforet.be of per telefoon op +32 61 61 30 10 (vraag Ingrid) \nDe ontmoetingsplaats wordt aan de deelnemers een paar dagen voor het bosbad gecommuniceerd \n“Bosbaden\, of shinrin-yoku is jezelf onderdompelen in de natuur met alle zintuigen op scherp.\nTijdens het bosbaden\, doen we enkele oefeningen om ons te ontspannen en volledig in het moment aanwezig te zijn.\nDoor niet alleen naar het bos te kijken\, maar ook te luisteren\, te ruiken\, te proeven en te voelen\, kunnen we de natuur en de samenhang van alles pas echt beleven …” \nDeze activiteit is bevestigd vanaf 4 personen.
URL:https://www.baindeforet.be/nl/event/bosbaden-voor-een-goede-gezondheid-2/
CATEGORIES:Bains de forêt accompagnés
ATTACH;FMTTYPE=image/jpeg:https://www.baindeforet.be/wp-content/uploads/2020/06/sylvotherapie_en_ardenne©IJusseret.jpg
ORGANIZER;CN="Syndicat d'Initiative de Tenneville":MAILTO:tenneville@baindeforet.be
END:VEVENT
BEGIN:VEVENT
DTSTART;TZID=Europe/Helsinki:20210411T090000
DTEND;TZID=Europe/Helsinki:20210411T110000
DTSTAMP:20260421T223931
CREATED:20210310T074012Z
LAST-MODIFIED:20210331T153047Z
UID:2941-1618131600-1618138800@www.baindeforet.be
SUMMARY:[annulé]  Bosbaden\, voor een goede gezondheid! (ontdekking)
DESCRIPTION:Bosbad begeleide door Juliette Antoine op zondag 11 april 2021.\nVertrek om 9u (onthaal vanaf 8.45u).\nDuur: +/- 2 u.\nOp reservatie via tenneville@baindeforet.be of per telefoon op +32 61 61 30 10 (vraag Ingrid) \nDe ontmoetingsplaats wordt aan de deelnemers een paar dagen voor het bosbad gecommuniceerd \n“Bosbaden\, of shinrin-yoku is jezelf onderdompelen in de natuur met alle zintuigen op scherp.\nTijdens het bosbaden\, doen we enkele oefeningen om ons te ontspannen en volledig in het moment aanwezig te zijn.\nDoor niet alleen naar het bos te kijken\, maar ook te luisteren\, te ruiken\, te proeven en te voelen\, kunnen we de natuur en de samenhang van alles pas echt beleven …” \nGoed om te weten: we bevestigen het houden van dit bosbad aan de deelnemers zodra de maatregelen voor de maand april bekend zullen zijn (Covid 19).
URL:https://www.baindeforet.be/nl/event/bosbaden-voor-een-goede-gezondheid/
CATEGORIES:Bains de forêt accompagnés
ATTACH;FMTTYPE=image/jpeg:https://www.baindeforet.be/wp-content/uploads/2020/09/ij-scaled-scaled.jpg
ORGANIZER;CN="Syndicat d'Initiative de Tenneville":MAILTO:tenneville@baindeforet.be
END:VEVENT
END:VCALENDAR