BEGIN:VCALENDAR
VERSION:2.0
PRODID:-//Tenneville-les-Bains... de forêt ! - ECPv6.15.20//NONSGML v1.0//EN
CALSCALE:GREGORIAN
METHOD:PUBLISH
X-ORIGINAL-URL:https://www.baindeforet.be
X-WR-CALDESC:Évènements pour Tenneville-les-Bains... de forêt !
REFRESH-INTERVAL;VALUE=DURATION:PT1H
X-Robots-Tag:noindex
X-PUBLISHED-TTL:PT1H
BEGIN:VTIMEZONE
TZID:Europe/Helsinki
BEGIN:DAYLIGHT
TZOFFSETFROM:+0200
TZOFFSETTO:+0300
TZNAME:EEST
DTSTART:20240331T010000
END:DAYLIGHT
BEGIN:STANDARD
TZOFFSETFROM:+0300
TZOFFSETTO:+0200
TZNAME:EET
DTSTART:20241027T010000
END:STANDARD
BEGIN:DAYLIGHT
TZOFFSETFROM:+0200
TZOFFSETTO:+0300
TZNAME:EEST
DTSTART:20250330T010000
END:DAYLIGHT
BEGIN:STANDARD
TZOFFSETFROM:+0300
TZOFFSETTO:+0200
TZNAME:EET
DTSTART:20251026T010000
END:STANDARD
BEGIN:DAYLIGHT
TZOFFSETFROM:+0200
TZOFFSETTO:+0300
TZNAME:EEST
DTSTART:20260329T010000
END:DAYLIGHT
BEGIN:STANDARD
TZOFFSETFROM:+0300
TZOFFSETTO:+0200
TZNAME:EET
DTSTART:20261025T010000
END:STANDARD
END:VTIMEZONE
BEGIN:VEVENT
DTSTART;TZID=Europe/Helsinki:20251213T094500
DTEND;TZID=Europe/Helsinki:20251213T094500
DTSTAMP:20260421T215540
CREATED:20250827T100752Z
LAST-MODIFIED:20251203T074324Z
UID:10123-1765619100-1765619100@www.baindeforet.be
SUMMARY:[COMPLET] Bain de forêt: Le nouveau Monde
DESCRIPTION:Vers une conscience du vivant. \nJouir de l’expérience\, donner et recevoir en toute liberté. \nPour l’autonomie de chacun. \nPour le dernier bain de forêt accompagné programmé dans notre agenda pour 2025\, et à l’approche d’une nouvelle année\, Delphine Caudron vous propose « Le nouveau Monde » comme thématique du bain de forêt qu’elle accompagnera le samedi 13 décembre 2025. \n\nEn pratique pour le bain de forêt du samedi 13 décembre : – Afin de vous sentir à l’aise avec le temps\, nous vous recommandons de prévoir le créneau horaire de 9h45 à 12h (accueil : dès 9h45\, départ vers le parcours: 10h\, durée du bain de forêt : environ 1h30)– PAF: 10 € par personne– L’inscription est indispensable (nombre de places limité) auprès du Syndicat d’Initiative de Tenneville via l’Outil Régional de Commercialisation\, au +32 474 86 20 38 ou par mail à tenneville@baindeforet.be – Le bain de forêt sera confirmé avec minimum 5 participants– Les inscriptions seront clôturées le mercredi 10 décembre– Les jeunes sont les bienvenus dès 15 ans– Le lieu de rendez-vous sera communiqué aux participants quelques jours avant le bain de forêt \nChargement en cours…\n \nLa date ne vous convient pas ?\nNous proposons également des bains de forêt privés.\nNous sommes à votre disposition pour plus d’informations. \nUne question ?\nVous pouvez consulter la rubrique “Questions fréquentes” accessible ici et bien sûr nous contacter.
URL:https://www.baindeforet.be/event/bain-de-foret-le-nouveau-monde/
LOCATION:L’adresse sera communiquée aux participants\, Commune de Tenneville\, 6970\, Belgique
CATEGORIES:Bains de forêt accompagnés
ATTACH;FMTTYPE=image/webp:https://www.baindeforet.be/wp-content/uploads/2025/08/agenda-bain-de-foret-tenneville-2-1.webp
ORGANIZER;CN="Syndicat d'Initiative de Tenneville":MAILTO:tenneville@baindeforet.be
END:VEVENT
END:VCALENDAR