BEGIN:VCALENDAR
VERSION:2.0
PRODID:-//Tenneville-les-Bains... de forêt ! - ECPv6.15.20//NONSGML v1.0//EN
CALSCALE:GREGORIAN
METHOD:PUBLISH
X-WR-CALNAME:Tenneville-les-Bains... de forêt !
X-ORIGINAL-URL:https://www.baindeforet.be
X-WR-CALDESC:Évènements pour Tenneville-les-Bains... de forêt !
REFRESH-INTERVAL;VALUE=DURATION:PT1H
X-Robots-Tag:noindex
X-PUBLISHED-TTL:PT1H
BEGIN:VTIMEZONE
TZID:Europe/Helsinki
BEGIN:DAYLIGHT
TZOFFSETFROM:+0200
TZOFFSETTO:+0300
TZNAME:EEST
DTSTART:20250330T010000
END:DAYLIGHT
BEGIN:STANDARD
TZOFFSETFROM:+0300
TZOFFSETTO:+0200
TZNAME:EET
DTSTART:20251026T010000
END:STANDARD
BEGIN:DAYLIGHT
TZOFFSETFROM:+0200
TZOFFSETTO:+0300
TZNAME:EEST
DTSTART:20260329T010000
END:DAYLIGHT
BEGIN:STANDARD
TZOFFSETFROM:+0300
TZOFFSETTO:+0200
TZNAME:EET
DTSTART:20261025T010000
END:STANDARD
BEGIN:DAYLIGHT
TZOFFSETFROM:+0200
TZOFFSETTO:+0300
TZNAME:EEST
DTSTART:20270328T010000
END:DAYLIGHT
BEGIN:STANDARD
TZOFFSETFROM:+0300
TZOFFSETTO:+0200
TZNAME:EET
DTSTART:20271031T010000
END:STANDARD
END:VTIMEZONE
BEGIN:VEVENT
DTSTART;TZID=Europe/Helsinki:20260325T091500
DTEND;TZID=Europe/Helsinki:20260325T091500
DTSTAMP:20260421T160938
CREATED:20251201T090434Z
LAST-MODIFIED:20260316T073917Z
UID:11329-1774430100-1774430100@www.baindeforet.be
SUMMARY:Reporté - Bain de forêt: Respiration cosmique ou battements de cœur universels
DESCRIPTION:Un lien entre l’incroyablement petit et l’incroyablement vaste. \nNature à ciel ouvert dans le double rôle de réalisateur et d’acteur. \n\nReporté à une date ultérieure.
URL:https://www.baindeforet.be/event/bain-de-foret-respiration-cosmique-ou-battements-de-coeur-universels-2/
LOCATION:L’adresse sera communiquée aux participants\, Commune de Tenneville\, 6970\, Belgique
CATEGORIES:Bains de forêt accompagnés
ATTACH;FMTTYPE=image/webp:https://www.baindeforet.be/wp-content/uploads/2025/11/agenda-bain-de-foret-tenneville-1-1.webp
ORGANIZER;CN="Syndicat d'Initiative de Tenneville":MAILTO:tenneville@baindeforet.be
END:VEVENT
END:VCALENDAR