BEGIN:VCALENDAR
VERSION:2.0
PRODID:-//Tenneville-les-Bains... de forêt ! - ECPv6.15.20//NONSGML v1.0//EN
CALSCALE:GREGORIAN
METHOD:PUBLISH
X-WR-CALNAME:Tenneville-les-Bains... de forêt !
X-ORIGINAL-URL:https://www.baindeforet.be
X-WR-CALDESC:Évènements pour Tenneville-les-Bains... de forêt !
REFRESH-INTERVAL;VALUE=DURATION:PT1H
X-Robots-Tag:noindex
X-PUBLISHED-TTL:PT1H
BEGIN:VTIMEZONE
TZID:Europe/Helsinki
BEGIN:DAYLIGHT
TZOFFSETFROM:+0200
TZOFFSETTO:+0300
TZNAME:EEST
DTSTART:20250330T010000
END:DAYLIGHT
BEGIN:STANDARD
TZOFFSETFROM:+0300
TZOFFSETTO:+0200
TZNAME:EET
DTSTART:20251026T010000
END:STANDARD
BEGIN:DAYLIGHT
TZOFFSETFROM:+0200
TZOFFSETTO:+0300
TZNAME:EEST
DTSTART:20260329T010000
END:DAYLIGHT
BEGIN:STANDARD
TZOFFSETFROM:+0300
TZOFFSETTO:+0200
TZNAME:EET
DTSTART:20261025T010000
END:STANDARD
BEGIN:DAYLIGHT
TZOFFSETFROM:+0200
TZOFFSETTO:+0300
TZNAME:EEST
DTSTART:20270328T010000
END:DAYLIGHT
BEGIN:STANDARD
TZOFFSETFROM:+0300
TZOFFSETTO:+0200
TZNAME:EET
DTSTART:20271031T010000
END:STANDARD
END:VTIMEZONE
BEGIN:VEVENT
DTSTART;TZID=Europe/Helsinki:20260617T091500
DTEND;TZID=Europe/Helsinki:20260617T091500
DTSTAMP:20260421T174456
CREATED:20251216T105703Z
LAST-MODIFIED:20251216T122740Z
UID:11430-1781687700-1781687700@www.baindeforet.be
SUMMARY:Bain de forêt: Transformation et prospérité
DESCRIPTION:Les bains de forêt accompagnés en juin par Delphine Caudron se dérouleront le mercredi 17 et le samedi 20 juin.\nIls auront pour thème « Transformation et prospérité ». L’intention posée pour ces temps de sylvothérapie sera : « Dans les petites choses du vivant\, se déposer et observer. S’inspirer de la fluidité et de l’authenticité de la nature pour se laisser prospérer. » \nEn pratique pour le bain de forêt du mercredi 17 juin 2026 : \n– Afin de vous sentir à l’aise avec le temps\, nous vous recommandons de prévoir le créneau horaire de 9h15 à 11h30 (accueil : dès 9h15\, départ vers le parcours: 9h30\, durée du bain de forêt : environ 1h30)\n– PAF: 10 € par personne\n– L’inscription est indispensable (nombre de places limité) auprès du Syndicat d’Initiative de Tenneville via l’Outil Régional de Commercialisation\, au +32 474 86 20 38 ou par mail à tenneville@baindeforet.be\n– Le bain de forêt sera confirmé avec minimum 5 participants\n– Les inscriptions seront clôturées le lundi 15 juin 2026\n– Les jeunes sont les bienvenus dès 15 ans\n– Le lieu de rendez-vous sera communiqué aux participants quelques jours avant le bain de forêt \n==> S’inscrire\nLa date ne vous convient pas ?\nNous proposons également des bains de forêt privés.\nNous sommes à votre disposition pour plus d’informations. \nUne question ?\nVous pouvez consulter la rubrique “Questions fréquentes” et bien sûr nous contacter.
URL:https://www.baindeforet.be/event/bain-de-foret-transformation-et-prosperite/
LOCATION:L’adresse sera communiquée aux participants\, Commune de Tenneville\, 6970\, Belgique
CATEGORIES:Bains de forêt accompagnés
ATTACH;FMTTYPE=image/webp:https://www.baindeforet.be/wp-content/uploads/2025/12/agenda-bain-de-foret-tenneville-1-1.webp
ORGANIZER;CN="Syndicat d'Initiative de Tenneville":MAILTO:tenneville@baindeforet.be
END:VEVENT
END:VCALENDAR