BEGIN:VCALENDAR
VERSION:2.0
PRODID:-//Tenneville-les-Bains... de forêt ! - ECPv6.15.20//NONSGML v1.0//EN
CALSCALE:GREGORIAN
METHOD:PUBLISH
X-ORIGINAL-URL:https://www.baindeforet.be
X-WR-CALDESC:Évènements pour Tenneville-les-Bains... de forêt !
REFRESH-INTERVAL;VALUE=DURATION:PT1H
X-Robots-Tag:noindex
X-PUBLISHED-TTL:PT1H
BEGIN:VTIMEZONE
TZID:Europe/Helsinki
BEGIN:DAYLIGHT
TZOFFSETFROM:+0200
TZOFFSETTO:+0300
TZNAME:EEST
DTSTART:20250330T010000
END:DAYLIGHT
BEGIN:STANDARD
TZOFFSETFROM:+0300
TZOFFSETTO:+0200
TZNAME:EET
DTSTART:20251026T010000
END:STANDARD
BEGIN:DAYLIGHT
TZOFFSETFROM:+0200
TZOFFSETTO:+0300
TZNAME:EEST
DTSTART:20260329T010000
END:DAYLIGHT
BEGIN:STANDARD
TZOFFSETFROM:+0300
TZOFFSETTO:+0200
TZNAME:EET
DTSTART:20261025T010000
END:STANDARD
BEGIN:DAYLIGHT
TZOFFSETFROM:+0200
TZOFFSETTO:+0300
TZNAME:EEST
DTSTART:20270328T010000
END:DAYLIGHT
BEGIN:STANDARD
TZOFFSETFROM:+0300
TZOFFSETTO:+0200
TZNAME:EET
DTSTART:20271031T010000
END:STANDARD
END:VTIMEZONE
BEGIN:VEVENT
DTSTART;TZID=Europe/Helsinki:20260124T131500
DTEND;TZID=Europe/Helsinki:20260124T131500
DTSTAMP:20260421T182304
CREATED:20251201T095258Z
LAST-MODIFIED:20251216T121743Z
UID:11294-1769260500-1769260500@www.baindeforet.be
SUMMARY:Bain de forêt : Inspiration de janvier\, un souffle nouveau
DESCRIPTION:Au cœur de l’hiver prendre le temps de respirer\, de rêver demain et son printemps.\nTelle est la promesse de Delphine Caudron pour ce bain de forêt accompagné qui prendra place le samedi 24 janvier 2026. \n\nEn pratique pour le bain de forêt du samedi 24 janvier 2026 : – Afin de vous sentir à l’aise avec le temps\, nous vous recommandons de prévoir le créneau horaire de 13h15 à 15h30 (accueil : dès 13h15\, départ vers le parcours: 13h30\, durée du bain de forêt : environ 1h30)– PAF: 10 € par personne– L’inscription est indispensable (nombre de places limité) auprès du Syndicat d’Initiative de Tenneville via l’Outil Régional de Commercialisation\, au +32 474 86 20 38 ou par mail à tenneville@baindeforet.be – Le bain de forêt sera confirmé avec minimum 5 participants– Les inscriptions seront clôturées le mercredi 21 janvier 2026– Les jeunes sont les bienvenus dès 15 ans– Le lieu de rendez-vous sera communiqué aux participants quelques jours avant le bain de forêt \nChargement en cours…\n \nLa date ne vous convient pas ?\nNous proposons également des bains de forêt privés.\nNous sommes à votre disposition pour plus d’informations. \nUne question ?\nVous pouvez consulter la rubrique “Questions fréquentes” accessible ici et bien sûr nous contacter.
URL:https://www.baindeforet.be/event/bain-de-foret-inspiration-de-janvier-un-souffle-nouveau/
LOCATION:L’adresse sera communiquée aux participants\, Commune de Tenneville\, 6970\, Belgique
CATEGORIES:Bains de forêt accompagnés
ATTACH;FMTTYPE=image/webp:https://www.baindeforet.be/wp-content/uploads/2025/11/agenda-bain-de-foret-tenneville.webp
ORGANIZER;CN="Syndicat d'Initiative de Tenneville":MAILTO:tenneville@baindeforet.be
END:VEVENT
END:VCALENDAR